BEGIN:VCALENDAR
VERSION:2.0
PRODID:-//The Children&#039;s Course - ECPv6.15.18//NONSGML v1.0//EN
CALSCALE:GREGORIAN
METHOD:PUBLISH
X-ORIGINAL-URL:https://www.thechildrenscourse.org
X-WR-CALDESC:Events for The Children&#039;s Course
REFRESH-INTERVAL;VALUE=DURATION:PT1H
X-Robots-Tag:noindex
X-PUBLISHED-TTL:PT1H
BEGIN:VTIMEZONE
TZID:UTC
BEGIN:STANDARD
TZOFFSETFROM:+0000
TZOFFSETTO:+0000
TZNAME:UTC
DTSTART:20250101T000000
END:STANDARD
END:VTIMEZONE
BEGIN:VEVENT
DTSTART;TZID=UTC:20260422T000000
DTEND;TZID=UTC:20260501T120000
DTSTAMP:20260421T104332
CREATED:20251231T200448Z
LAST-MODIFIED:20260210T020926Z
UID:704-1776816000-1777636800@www.thechildrenscourse.org
SUMMARY:2026 Wine & Golf Ball - Online Auction Opens!
DESCRIPTION:Wine & Golf Ball Online auction opens April 22nd! Register to review an amazing selection of packages and items to bid on\, including golf equipment\, wine\, golf trip and vacations\, and much more! Raise your flag (paddle!) and help support our programs and the children we serve. \nIt’s FORE THE KIDS!
URL:https://www.thechildrenscourse.org/event/2026-wine-golf-ball-online-auction-opens/
END:VEVENT
BEGIN:VEVENT
DTSTART;TZID=UTC:20260430T173000
DTEND;TZID=UTC:20260430T210000
DTSTAMP:20260421T104332
CREATED:20251231T200947Z
LAST-MODIFIED:20260129T005219Z
UID:708-1777570200-1777582800@www.thechildrenscourse.org
SUMMARY:2026 Wine & Golf Ball at Waverley Country Club
DESCRIPTION:Join us for our annual Wine & Golf Ball at Waverley Country Club on Thursday\, April 30th\, starting at 5:30 PM. Space is limited so reserve your tickets online now!
URL:https://www.thechildrenscourse.org/event/2026-wine-golf-ball-at-waverley-country-club/
END:VEVENT
END:VCALENDAR